BEGIN:VCALENDAR
VERSION:2.0
PRODID:-//Plone.org//NONSGML plone.app.event//EN
X-WR-TIMEZONE:Asia/Kuala_Lumpur
BEGIN:VEVENT
SUMMARY:iMAP 2023 Internet Censorship Report Launch
DTSTART;TZID=Asia/Kuala_Lumpur;VALUE=DATE-TIME:20231013T160000
DTEND;TZID=Asia/Kuala_Lumpur;VALUE=DATE-TIME:20231013T173000
DTSTAMP;VALUE=DATE-TIME:20260422T200315Z
UID:aae1405287f9413680614ad89a1ef056@imap.sinarproject.org
CREATED;VALUE=DATE-TIME:20231009T045653Z
LAST-MODIFIED;VALUE=DATE-TIME:20241011T071254Z
LOCATION:Streamyard
URL:https://imap.sinarproject.org/events/imap-2023-internet-censorship-rep
 ort-launch
END:VEVENT
BEGIN:VTIMEZONE
TZID:Asia/Kuala_Lumpur
X-LIC-LOCATION:Asia/Kuala_Lumpur
BEGIN:STANDARD
DTSTART;VALUE=DATE-TIME:19820101T000000
TZNAME:+08
TZOFFSETFROM:+0730
TZOFFSETTO:+0800
END:STANDARD
END:VTIMEZONE
END:VCALENDAR
